BEGIN:VCALENDAR
VERSION:2.0
PRODID:-//wp-events-plugin.com//7.2.3.1//EN
BEGIN:VEVENT
UID:0-583@cellieu.fr
DTSTART;VALUE=DATE:20230918
DTEND;VALUE=DATE:20230925
DTSTAMP:20230831T090645Z
URL:https://cellieu.fr/press3/mairie/events/10466/
SUMMARY:Cirque Fratelly
DESCRIPTION:
ATTACH;FMTTYPE=image/jpeg:https://cellieu.fr/press3/mairie/wp-content/uplo
 ads/sites/2/2021/10/logo-cellieu-e1643359422870.jpg
CATEGORIES:Public
LOCATION:Stade des Roches\, 541 Route du Trève\, cellieu\, 42320\, France
GEO:45.53118562204349;4.545095058227503
X-APPLE-STRUCTURED-LOCATION;VALUE=URI;X-ADDRESS=541 Route du Trève\, celli
 eu\, 42320\, France;X-APPLE-RADIUS=100;X-TITLE=Stade des Roches:geo:45.531
 18562204349,4.545095058227503
END:VEVENT
END:VCALENDAR