BEGIN:VCALENDAR
VERSION:2.0
PRODID:-//wp-events-plugin.com//7.2.3.1//EN
BEGIN:VEVENT
UID:0-759@cellieu.fr
DTSTART:20260408T070000Z
DTEND:20260424T170000Z
DTSTAMP:20260331T173518Z
URL:https://cellieu.fr/press3/mairie/events/14980/
SUMMARY:Travaux Oélie-Saur sur notre territoire
DESCRIPTION:Nous vous informons qu’un technicien d’Oélie Saur intervie
 ndra sur le territoire communal du 8 avril au 24 avril inclus.\n\nIl se pr
 ésentera auprès de chaque abonné au service de l’eau du secteur conce
 rné afin d’effectuer une enquête technique sur son branchement. Il pou
 rra également proposer des rendez‑vous lorsque cela sera nécessaire.\n
 \nCette intervention s’inscrit dans le cadre d’une étude menée par S
 aint‑Étienne Métropole\, visant à réaliser un état des lieux des br
 anchements d’eau potable existants.\n\n&nbsp\;\n\nLes secteurs concerné
 s par ces investigations sont les suivants :\n\n- Chemin des Écheries\n\n
 - Route du Cerveau\n\n- Chemin de la Châtaignière\n\n- La Petite Chataig
 nière\n\n- La Grande Chataignière\n\n- Une partie de la route du Val Fle
 ury\n\n- l’Impasse des Roseaux\n\n&nbsp\;
ATTACH;FMTTYPE=image/jpeg:https://cellieu.fr/press3/mairie/wp-content/uplo
 ads/sites/2/2025/01/Eovie-Saur.png
CATEGORIES:Mairie,Public
LOCATION:Autres\, Adresse\, Cellieu\, France
GEO:45.52306799999999;4.541575999999964
X-APPLE-STRUCTURED-LOCATION;VALUE=URI;X-ADDRESS=Adresse\, Cellieu\, France;
 X-APPLE-RADIUS=100;X-TITLE=Autres:geo:45.52306799999999,4.541575999999964
END:VEVENT
END:VCALENDAR