BEGIN:VCALENDAR
VERSION:2.0
PRODID:-//wp-events-plugin.com//7.2.3.1//EN
BEGIN:VEVENT
UID:0-760@cellieu.fr
DTSTART:20260416T073000Z
DTEND:20260416T110000Z
DTSTAMP:20260331T172006Z
URL:https://cellieu.fr/press3/mairie/events/14981/
SUMMARY:Saur-Oélie sera présent en mairie pour répondre à vos questions
DESCRIPTION:Le prestataire SAUR-OELIE va prochainement émettre les facture
 s de vos consommations de notre commune.&nbsp\;\n\nIl sera présent en mai
 rie\, le jeudi 16 avril de 8h30 à 12h00 afin de répondre aux questions d
 es usagers suite à leur facturation.&nbsp\;\n\nCette permanence sera comm
 une aux usagers de Chagnon et Cellieu comme cela a été fait les fois pr
 écédentes.
ATTACH;FMTTYPE=image/jpeg:https://cellieu.fr/press3/mairie/wp-content/uplo
 ads/sites/2/2025/01/Eovie-Saur.png
CATEGORIES:Mairie,Public
LOCATION:Salle du Conseil\, 1 Place de Verdun\, Cellieu\, 42320\, France
GEO:45.52291890000001;4.541450700000041
X-APPLE-STRUCTURED-LOCATION;VALUE=URI;X-ADDRESS=1 Place de Verdun\, Cellieu
 \, 42320\, France;X-APPLE-RADIUS=100;X-TITLE=Salle du Conseil:geo:45.52291
 890000001,4.541450700000041
END:VEVENT
END:VCALENDAR