BEGIN:VCALENDAR
VERSION:2.0
PRODID:-//wp-events-plugin.com//7.2.3.1//EN
BEGIN:VEVENT
UID:0-552@cellieu.fr
DTSTART:20230325T180000Z
DTEND:20230325T224500Z
DTSTAMP:20230303T113608Z
URL:https://cellieu.fr/press3/mairie/events/25-03-sou-des-ecoles-fete-fami
 liale-st-patrick/
SUMMARY:25/03 Sou des Ecoles: Fête familiale St Patrick
DESCRIPTION:Le Sou des Ecoles organise une fête familiale -St Patrick\nRep
 as dansant\nLe 25&nbsp\; Mars à 19 H- salle Roger Farce\nLien pour l'insc
 ription\n
ATTACH;FMTTYPE=image/jpeg:https://cellieu.fr/press3/mairie/wp-content/uplo
 ads/sites/2/2020/11/2020-logo-sou-des-ecoles.png
CATEGORIES:Public
LOCATION:Salle Roger Farce\, 541 Route du Trève\, Cellieu\, 42320\, France
GEO:45.5312914427993;4.544969748775088
X-APPLE-STRUCTURED-LOCATION;VALUE=URI;X-ADDRESS=541 Route du Trève\, Celli
 eu\, 42320\, France;X-APPLE-RADIUS=100;X-TITLE=Salle Roger Farce:geo:45.53
 12914427993,4.544969748775088
END:VEVENT
END:VCALENDAR