BEGIN:VCALENDAR
VERSION:2.0
PRODID:-//wp-events-plugin.com//7.2.3.1//EN
BEGIN:VEVENT
UID:0-622@cellieu.fr
DTSTART:20240406T074500Z
DTEND:20240406T110000Z
DTSTAMP:20240221T112011Z
URL:https://cellieu.fr/press3/mairie/events/26eme-edition-de-dictee-en-fet
 e-le-samedi-6-avril-2024-a-saint-paul-en-jarez/
SUMMARY:26ème édition de "Dictée en fête" le samedi 6 avril 2024 à Sai
 nt-Paul-En-Jarez
DESCRIPTION:
ATTACH;FMTTYPE=image/jpeg:https://cellieu.fr/press3/mairie/wp-content/uplo
 ads/sites/2/2015/07/logo_cellieu_2.gif
CATEGORIES:Association,Autre,Public
LOCATION:Autres\, Adresse\, Cellieu\, France
GEO:45.52306799999999;4.541575999999964
X-APPLE-STRUCTURED-LOCATION;VALUE=URI;X-ADDRESS=Adresse\, Cellieu\, France;
 X-APPLE-RADIUS=100;X-TITLE=Autres:geo:45.52306799999999,4.541575999999964
END:VEVENT
END:VCALENDAR