BEGIN:VCALENDAR
VERSION:2.0
PRODID:-//wp-events-plugin.com//7.2.3.1//EN
BEGIN:VEVENT
UID:0-749@cellieu.fr
DTSTART:20260312T230000Z
DTEND:20260313T230000Z
DTSTAMP:20260210T184327Z
URL:https://cellieu.fr/press3/mairie/events/360-minutes-dating-conseils-jo
 b-3eme-edition/
SUMMARY:360 Minutes! Dating &amp\; Conseils Job 3ème édition:
DESCRIPTION:A St Christo En Jarez !\nVendredi 13 Mars 2026\nà 18H00 Petite
 s annonces … Focus animation\n20H00 / 22H00 : Job Dating…\n&nbsp\;\nSa
 medi 14 Mars 2026&nbsp\;\n10H00 / 12H00 : Ateliers CV etc.…\nInfos : 077
 5113522\n
CATEGORIES:Association,Mairie,Public
LOCATION:Autres\, Adresse\, Cellieu\, France
GEO:45.52306799999999;4.541575999999964
X-APPLE-STRUCTURED-LOCATION;VALUE=URI;X-ADDRESS=Adresse\, Cellieu\, France;
 X-APPLE-RADIUS=100;X-TITLE=Autres:geo:45.52306799999999,4.541575999999964
END:VEVENT
END:VCALENDAR