BEGIN:VCALENDAR
VERSION:2.0
PRODID:-//wp-events-plugin.com//7.2.3.1//EN
BEGIN:VEVENT
UID:2-125@cellieu.fr
DTSTART;VALUE=DATE:20150413
DTEND;VALUE=DATE:20150418
DTSTAMP:20150410T082213Z
URL:https://cellieu.fr/press3/mairie/events/accueil-de-loisirs-vacances-le
 s-animaux-et-la-nature/
SUMMARY:Accueil de loisirs vacances : les animaux et la nature
DESCRIPTION:Plus d'informations : ici
CATEGORIES:Mairie,Public
LOCATION:Ecole Alphonse Daudet\, 39 chemin de la picote\, cellieu\, France\
 , 42320\, France
GEO:45.518037453058604;4.542367558238311
X-APPLE-STRUCTURED-LOCATION;VALUE=URI;X-ADDRESS=39 chemin de la picote\, ce
 llieu\, France\, 42320\, France;X-APPLE-RADIUS=100;X-TITLE=Ecole Alphonse 
 Daudet:geo:45.518037453058604,4.542367558238311
END:VEVENT
END:VCALENDAR