BEGIN:VCALENDAR
VERSION:2.0
PRODID:-//wp-events-plugin.com//7.2.3.1//EN
BEGIN:VEVENT
UID:2-272@cellieu.fr
DTSTART:20170127T183000Z
DTEND:20170127T210000Z
DTSTAMP:20170113T111638Z
URL:https://cellieu.fr/press3/mairie/events/ag-association-un-grand-pas-po
 ur-sarah-2017/
SUMMARY:AG - Association Un Grand Pas Pour Sarah - 2017
DESCRIPTION:Organisateur&nbsp\;: Association Un Grand Pas Pour Sarah\n\n&nb
 sp\;\n\n
ATTACH;FMTTYPE=image/jpeg:https://cellieu.fr/press3/mairie/wp-content/uplo
 ads/sites/2/2014/09/association_sarah.jpg
CATEGORIES:Public,Un grand pas pour sarah
LOCATION:Maison des Associations\, Route du marché\, Cellieu\, 42320\, Fra
 nce
GEO:45.5234081;4.54262319999998
X-APPLE-STRUCTURED-LOCATION;VALUE=URI;X-ADDRESS=Route du marché\, Cellieu\
 , 42320\, France;X-APPLE-RADIUS=100;X-TITLE=Maison des Associations:geo:45
 .5234081,4.54262319999998
END:VEVENT
END:VCALENDAR