BEGIN:VCALENDAR
VERSION:2.0
PRODID:-//wp-events-plugin.com//7.2.3.1//EN
BEGIN:VEVENT
UID:0-585@cellieu.fr
DTSTART:20231018T133000Z
DTEND:20231018T160000Z
DTSTAMP:20231012T092952Z
URL:https://cellieu.fr/press3/mairie/events/atelier-mediatheque/
SUMMARY:Atelier Médiathèque
DESCRIPTION:Atelier création Mobile Nature\nle 18 octobre 2023\n      
                                                  
                                                  
            de 14h 30 à 17h\n
ATTACH;FMTTYPE=image/jpeg:https://cellieu.fr/press3/mairie/wp-content/uplo
 ads/sites/2/2021/10/logo-cellieu-e1643359422870.jpg
CATEGORIES:Privée
LOCATION:Médiathèque Yvan Garrel\, 25 place de verdun\, Cellieu\, 42320\,
  France
GEO:45.523213147489926;4.541521402990384
X-APPLE-STRUCTURED-LOCATION;VALUE=URI;X-ADDRESS=25 place de verdun\, Cellie
 u\, 42320\, France;X-APPLE-RADIUS=100;X-TITLE=Médiathèque Yvan Garrel:ge
 o:45.523213147489926,4.541521402990384
END:VEVENT
END:VCALENDAR