BEGIN:VCALENDAR
VERSION:2.0
PRODID:-//wp-events-plugin.com//7.2.3.1//EN
BEGIN:VEVENT
UID:0-557@cellieu.fr
DTSTART:20230411T080000Z
DTEND:20230414T160000Z
DTSTAMP:20230401T151854Z
URL:https://cellieu.fr/press3/mairie/events/atelier-musique-et-video-du-11
 -au-14-avril-2023/
SUMMARY:Annulation : Atelier Musique et vidéo -du 11 au 14 avril 2023
DESCRIPTION:\nEn raison d'un nombre insuffisant de&nbsp\;participants annul
 ation de\nL'ATELIER MUSIQUE ET VIDEO - du 11 au 14 avril de 9h à 17h\nMer
 ci pour votre compréhension!\n&nbsp\;\n&nbsp\;
ATTACH;FMTTYPE=image/jpeg:https://cellieu.fr/press3/mairie/wp-content/uplo
 ads/sites/2/2014/07/logo_mpt.jpg
CATEGORIES:Public
LOCATION:Salle Georges Brassens\, 25 place de verdun\, Cellieu\, 42320\, Fr
 ance
GEO:45.52291890000001;4.541450700000041
X-APPLE-STRUCTURED-LOCATION;VALUE=URI;X-ADDRESS=25 place de verdun\, Cellie
 u\, 42320\, France;X-APPLE-RADIUS=100;X-TITLE=Salle Georges Brassens:geo:4
 5.52291890000001,4.541450700000041
END:VEVENT
END:VCALENDAR