BEGIN:VCALENDAR
VERSION:2.0
PRODID:-//wp-events-plugin.com//7.2.3.1//EN
BEGIN:VEVENT
UID:2-123@cellieu.fr
DTSTART:20150528T173000Z
DTEND:20150528T190000Z
DTSTAMP:20150504T081959Z
URL:https://cellieu.fr/press3/mairie/events/atelier-sur-le-compost/
SUMMARY:Atelier sur le compost (Gratuit)
DESCRIPTION:Organisateur : Mairie de Cellieu\n\nVenez apprendre à réalise
 r un compost à partir de vos déchets et de vos résidus végétaux. Vous
  pourrez le réutiliser dans votre jardin tout en réduisant la pollution.
 \n\nAtelier animé par la FRAPNA\, en partenariat avec la Mairie de Cellie
 u et St Etienne Métropole.\n\nParlez en à vos voisins et venez avec eux\
 , vous découvrirez des moyens alternatifs au brulage des végétaux (qui 
 est interdit).\n\nInscription gratuite et obligatoire au secrétariat de l
 a Mairie\, sur notre page contact ou en bas de cet article.\n\n\n\n&nbsp\
 ;
ATTACH;FMTTYPE=image/jpeg:https://cellieu.fr/press3/mairie/wp-content/uplo
 ads/sites/2/2015/03/compost_cycle.jpg
CATEGORIES:Mairie,Public
LOCATION:Salle Georges Brassens\, 25 place de verdun\, Cellieu\, 42320\, Fr
 ance
GEO:45.52291890000001;4.541450700000041
X-APPLE-STRUCTURED-LOCATION;VALUE=URI;X-ADDRESS=25 place de verdun\, Cellie
 u\, 42320\, France;X-APPLE-RADIUS=100;X-TITLE=Salle Georges Brassens:geo:4
 5.52291890000001,4.541450700000041
END:VEVENT
END:VCALENDAR