BEGIN:VCALENDAR
VERSION:2.0
PRODID:-//wp-events-plugin.com//7.2.3.1//EN
BEGIN:VEVENT
UID:0-438@cellieu.fr
DTSTART:20190920T180000Z
DTEND:20190920T210000Z
DTSTAMP:20190902T203604Z
URL:https://cellieu.fr/press3/mairie/events/barbecue-sur-la-place-du-villa
 ge/
SUMMARY:Barbecue sur la place du village
DESCRIPTION:Organisateur : Comité des Fêtes de Cellieu\n\nPrix unique : 1
 0€ (Frites - Saucisse/Merguez - Fruits)\n\nTickets en vente au Vival jus
 qu'au 15 septembre.\n\n[pdf-embedder url="https://cellieu.fr/press3/mairie
 /wp-content/uploads/sites/2/2019/09/2019-09-CDF_Barbecue.pdf"]
ATTACH;FMTTYPE=image/jpeg:https://cellieu.fr/press3/mairie/wp-content/uplo
 ads/sites/2/2016/11/Logo_CDF.png
CATEGORIES:Comite des fêtes,Public
LOCATION:Place de Verdun\, place de verdun\, Cellieu\, 42320\, France
GEO:45.52291890000001;4.541450700000041
X-APPLE-STRUCTURED-LOCATION;VALUE=URI;X-ADDRESS=place de verdun\, Cellieu\,
  42320\, France;X-APPLE-RADIUS=100;X-TITLE=Place de Verdun:geo:45.52291890
 000001,4.541450700000041
END:VEVENT
END:VCALENDAR