BEGIN:VCALENDAR
VERSION:2.0
PRODID:-//wp-events-plugin.com//7.2.3.1//EN
BEGIN:VEVENT
UID:2-251@cellieu.fr
DTSTART;VALUE=DATE:20161217
DTEND;VALUE=DATE:20161218
DTSTAMP:20161118T144432Z
URL:https://cellieu.fr/press3/mairie/events/bus-trams-gratuits-2/
SUMMARY:Bus + Trams GRATUITS
DESCRIPTION:Les Bus et Trams sont gratuits sur tout le réseau STAS les sam
 edis 10 et 17 décembre.
CATEGORIES:Autre,Public
LOCATION:Autres\, Adresse\, Cellieu\, France
GEO:45.52306799999999;4.541575999999964
X-APPLE-STRUCTURED-LOCATION;VALUE=URI;X-ADDRESS=Adresse\, Cellieu\, France;
 X-APPLE-RADIUS=100;X-TITLE=Autres:geo:45.52306799999999,4.541575999999964
END:VEVENT
END:VCALENDAR