BEGIN:VCALENDAR
VERSION:2.0
PRODID:-//wp-events-plugin.com//7.2.3.1//EN
BEGIN:VEVENT
UID:0-731@cellieu.fr
DTSTART:20251115T130000Z
DTEND:20251115T180000Z
DTSTAMP:20251028T114501Z
URL:https://cellieu.fr/press3/mairie/events/club-loisirs-amities-concours-
 de-belote/
SUMMARY:Club loisirs amitiés: concours de belote !
DESCRIPTION:Le club Loisirs Amitiés organise\nun concours de belote&nbsp\;
 ♠♥♦♣\n&nbsp\;le samedi 15 novembre 2025\nen doublettes formées&nb
 sp\;\ninscription à partir de 14 h salle Georges Brassens&nbsp\;\n1er pri
 x :2 jambons avec de&nbsp\;nombreux lots de viande et autres\nTous les jou
 eurs seront primés !\nCafé et Casse croûte&nbsp\;offerts !\nMise:12€0
 0 par joueur&nbsp\;\n&nbsp\;\n&nbsp\;
ATTACH;FMTTYPE=image/jpeg:https://cellieu.fr/press3/mairie/wp-content/uplo
 ads/sites/2/2025/05/logo-cellieu.jpg
CATEGORIES:Association,Club Loisirs Amitié,Public
LOCATION:Salle Georges Brassens\, 25 place de verdun\, Cellieu\, 42320\, Fr
 ance
GEO:45.52291890000001;4.541450700000041
X-APPLE-STRUCTURED-LOCATION;VALUE=URI;X-ADDRESS=25 place de verdun\, Cellie
 u\, 42320\, France;X-APPLE-RADIUS=100;X-TITLE=Salle Georges Brassens:geo:4
 5.52291890000001,4.541450700000041
END:VEVENT
END:VCALENDAR