BEGIN:VCALENDAR
VERSION:2.0
PRODID:-//wp-events-plugin.com//7.2.3.1//EN
BEGIN:VEVENT
UID:0-758@cellieu.fr
DTSTART:20260424T160000Z
DTEND:20260424T180000Z
DTSTAMP:20260331T175546Z
URL:https://cellieu.fr/press3/mairie/events/cmj-vous-invite-a-un-atelier-a
 -la-salle-barbara-ancienne-mediatheque/
SUMMARY:CMJ vous invite à un atelier à la salle BARBARA ancienne médiath
 èque !
DESCRIPTION:
ATTACH;FMTTYPE=image/jpeg:https://cellieu.fr/press3/mairie/wp-content/uplo
 ads/sites/2/2025/05/logo-cellieu.jpg
CATEGORIES:Association,CMJ,Mairie,Public
LOCATION:Place de Verdun\, place de verdun\, Cellieu\, 42320\, France
GEO:45.52291890000001;4.541450700000041
X-APPLE-STRUCTURED-LOCATION;VALUE=URI;X-ADDRESS=place de verdun\, Cellieu\,
  42320\, France;X-APPLE-RADIUS=100;X-TITLE=Place de Verdun:geo:45.52291890
 000001,4.541450700000041
END:VEVENT
END:VCALENDAR