BEGIN:VCALENDAR
VERSION:2.0
PRODID:-//wp-events-plugin.com//7.2.3.1//EN
BEGIN:VEVENT
UID:0-631@cellieu.fr
DTSTART:20240406T193000Z
DTEND:20240406T220000Z
DTSTAMP:20240318T150728Z
URL:https://cellieu.fr/press3/mairie/events/concert-the-ramblers/
SUMMARY:Concert "The Ramblers"
DESCRIPTION:La MPT organise un concert "The Ramblers"\nSalle Georges Brasse
 ns  à partir de 20H30\nTarif 10 euros par personne\nAu programme: bluegr
 ass\, balades irlandaises et quelques chansons de Brassens
ATTACH;FMTTYPE=image/jpeg:https://cellieu.fr/press3/mairie/wp-content/uplo
 ads/sites/2/2014/07/logo_mpt.jpg
CATEGORIES:Public
LOCATION:Salle Georges Brassens\, 25 place de verdun\, Cellieu\, 42320\, Fr
 ance
GEO:45.52291890000001;4.541450700000041
X-APPLE-STRUCTURED-LOCATION;VALUE=URI;X-ADDRESS=25 place de verdun\, Cellie
 u\, 42320\, France;X-APPLE-RADIUS=100;X-TITLE=Salle Georges Brassens:geo:4
 5.52291890000001,4.541450700000041
END:VEVENT
END:VCALENDAR