BEGIN:VCALENDAR
VERSION:2.0
PRODID:-//wp-events-plugin.com//7.2.3.1//EN
BEGIN:VEVENT
UID:2-111@cellieu.fr
DTSTART;VALUE=DATE:20150110
DTEND;VALUE=DATE:20150111
DTSTAMP:20141219T145507Z
URL:https://cellieu.fr/press3/mairie/events/concours-de-belote-3/
SUMMARY:Concours de belote
DESCRIPTION:Organisateur : Association ACCA
ATTACH;FMTTYPE=image/jpeg:https://cellieu.fr/press3/mairie/wp-content/uplo
 ads/sites/2/2014/10/evenement_concours_belote.png
CATEGORIES:ACCA,Public
LOCATION:Salle Georges Brassens\, 25 place de verdun\, Cellieu\, 42320\, Fr
 ance
GEO:45.52291890000001;4.541450700000041
X-APPLE-STRUCTURED-LOCATION;VALUE=URI;X-ADDRESS=25 place de verdun\, Cellie
 u\, 42320\, France;X-APPLE-RADIUS=100;X-TITLE=Salle Georges Brassens:geo:4
 5.52291890000001,4.541450700000041
END:VEVENT
END:VCALENDAR