BEGIN:VCALENDAR
VERSION:2.0
PRODID:-//wp-events-plugin.com//7.2.3.1//EN
BEGIN:VEVENT
UID:0-633@cellieu.fr
DTSTART:20240413T140000Z
DTEND:20240413T160000Z
DTSTAMP:20240322T180448Z
URL:https://cellieu.fr/press3/mairie/events/conference-de-jean-francois-te
 lley-sur-lorigine-et-le-patrimoine-de-cellieu-et-nos-villages-voisins/
SUMMARY:Conférence de Jean-François TELLEY sur l'origine et le patrimoine
  de Cellieu et nos villages voisins
DESCRIPTION:Le club loisirs amitiés organise une conférence sur l'origine
 \, le patrimoine\, la petite et grande histoire de Cellieu et villages ale
 ntours\n&nbsp\;et a pour but de mieux connaître nos villages\n&nbsp\;\nEl
 le sera animé animé par Jean François Telley \, la narration promet d'
 être passionnante !\n&nbsp\;Cette conférence est gratuite et&nbsp\; si v
 ous avez des questions jean François se fera un plaisir d'y répondre !\n
 &nbsp\;\nvenez nombreux et invitez vos amis \nle samedi 13 avril de 15 h 
 à 17 h
ATTACH;FMTTYPE=image/jpeg:https://cellieu.fr/press3/mairie/wp-content/uplo
 ads/sites/2/2015/07/logo_cellieu_2.gif
CATEGORIES:Association,Club Loisirs Amitié,Public
LOCATION:Salle Georges Brassens\, 25 place de verdun\, Cellieu\, 42320\, Fr
 ance
GEO:45.52291890000001;4.541450700000041
X-APPLE-STRUCTURED-LOCATION;VALUE=URI;X-ADDRESS=25 place de verdun\, Cellie
 u\, 42320\, France;X-APPLE-RADIUS=100;X-TITLE=Salle Georges Brassens:geo:4
 5.52291890000001,4.541450700000041
END:VEVENT
END:VCALENDAR