BEGIN:VCALENDAR
VERSION:2.0
PRODID:-//wp-events-plugin.com//7.2.3.1//EN
BEGIN:VEVENT
UID:2-124@cellieu.fr
DTSTART:20150327T190000Z
DTEND:20150327T223000Z
DTSTAMP:20150401T123109Z
URL:https://cellieu.fr/press3/mairie/events/conseil-municipal-du-30-mars-2
 014/
SUMMARY:Conseil Municipal de mars 2015
DESCRIPTION:La prochaine réunion du Conseil Municipal aura lieu le vendred
 i 27 mars 2015 à 20 heures\n\nPour l'avis cliquez ici
ATTACH;FMTTYPE=image/jpeg:https://cellieu.fr/press3/mairie/wp-content/uplo
 ads/sites/2/2014/07/evenement_conseil1.jpg
CATEGORIES:Mairie,Public
LOCATION:Salle du Conseil\, 1 Place de Verdun\, Cellieu\, 42320\, France
GEO:45.52291890000001;4.541450700000041
X-APPLE-STRUCTURED-LOCATION;VALUE=URI;X-ADDRESS=1 Place de Verdun\, Cellieu
 \, 42320\, France;X-APPLE-RADIUS=100;X-TITLE=Salle du Conseil:geo:45.52291
 890000001,4.541450700000041
END:VEVENT
END:VCALENDAR