BEGIN:VCALENDAR
VERSION:2.0
PRODID:-//wp-events-plugin.com//7.2.3.1//EN
BEGIN:VEVENT
UID:2-108@cellieu.fr
DTSTART:20141206T090000Z
DTEND:20141206T110000Z
DTSTAMP:20141130T213051Z
URL:https://cellieu.fr/press3/mairie/events/dedicaces-de-philippe-brocard/
SUMMARY:Dédicaces de Philippe Brocard
DESCRIPTION:Organisateur : Médiathèque de Cellieu\n\nDans le cadre du fe
 stival BD'ART 2014\, séance de dédicaces de l'auteur Philippe Brocard.
ATTACH;FMTTYPE=image/jpeg:https://cellieu.fr/press3/mairie/wp-content/uplo
 ads/sites/2/2014/11/BDArt.png
CATEGORIES:Médiathèque,Public
LOCATION:Médiathèque Yvan Garrel\, 25 place de verdun\, Cellieu\, 42320\,
  France
GEO:45.523213147489926;4.541521402990384
X-APPLE-STRUCTURED-LOCATION;VALUE=URI;X-ADDRESS=25 place de verdun\, Cellie
 u\, 42320\, France;X-APPLE-RADIUS=100;X-TITLE=Médiathèque Yvan Garrel:ge
 o:45.523213147489926,4.541521402990384
END:VEVENT
END:VCALENDAR