BEGIN:VCALENDAR
VERSION:2.0
PRODID:-//wp-events-plugin.com//7.2.3.1//EN
BEGIN:VEVENT
UID:0-458@cellieu.fr
DTSTART:20200617T130000Z
DTEND:20200617T160000Z
DTSTAMP:20200611T213420Z
URL:https://cellieu.fr/press3/mairie/events/distribution-de-masques-en-tis
 su-lavable-2/
SUMMARY:Distribution de masques en tissu lavable
DESCRIPTION:La municipalité de Cellieu va remettre 2 masques supplémentai
 res par personne en tissu lavable\n\nLa distribution&nbsp\;se fera&nbsp\;e
 n Mairie:\n\n 	Le mercredi 17 juin de 14h à 17h\n\nConditions pour être&
 nbsp\;éligible:\n\n 	avoir 12 ans ou plus et habiter sur la commune\n\nJu
 stificatifs&nbsp\;:\n\n 	1 pièce d’identité\n 	Pour un foyer\, présen
 ter toutes les cartes d’identité des membres de la famille ou le livret
  de famille.\n
CATEGORIES:Mairie,Public
LOCATION:Salle du Conseil\, 1 Place de Verdun\, Cellieu\, 42320\, France
GEO:45.52291890000001;4.541450700000041
X-APPLE-STRUCTURED-LOCATION;VALUE=URI;X-ADDRESS=1 Place de Verdun\, Cellieu
 \, 42320\, France;X-APPLE-RADIUS=100;X-TITLE=Salle du Conseil:geo:45.52291
 890000001,4.541450700000041
END:VEVENT
END:VCALENDAR