BEGIN:VCALENDAR
VERSION:2.0
PRODID:-//wp-events-plugin.com//7.2.3.1//EN
BEGIN:VEVENT
UID:0-456@cellieu.fr
DTSTART:20200325T150000Z
DTEND:20200325T180000Z
DTSTAMP:20200323T194321Z
URL:https://cellieu.fr/press3/mairie/events/don-du-sang-17/
SUMMARY:Don du Sang
DESCRIPTION:Organisateur : Etablissement Français du Sang\n\nPlus d'inform
 ations : EFS\n\nDans le contexte de l’épidémie de coronavirus covid-19
 \, la collecte de sang doit se poursuivre pour répondre aux besoins des p
 atients. Vous pouvez vous rendre en collecte sauf si vous présentez des s
 ymptômes grippaux.\n\nInfo donneurs : dans le cadre des mesures de confin
 ement\, les citoyens sont autorisés à se déplacer pour aller donner leu
 r sang sur les sites de collecte de l’EFS\, sous réserve de remplir&nbs
 p\;l’attestation officielle&nbsp\;ou une déclaration sur l’honneur in
 diquant indiquant qu’ils vont donner leur sang\,&nbsp\;au motif de l’a
 ssistance aux personnes vulnérables.
ATTACH;FMTTYPE=image/jpeg:https://cellieu.fr/press3/mairie/wp-content/uplo
 ads/sites/2/2014/09/etablissement_francais_du_sang.png
CATEGORIES:Mairie,Public
LOCATION:Salle Georges Brassens\, 25 place de verdun\, Cellieu\, 42320\, Fr
 ance
GEO:45.52291890000001;4.541450700000041
X-APPLE-STRUCTURED-LOCATION;VALUE=URI;X-ADDRESS=25 place de verdun\, Cellie
 u\, 42320\, France;X-APPLE-RADIUS=100;X-TITLE=Salle Georges Brassens:geo:4
 5.52291890000001,4.541450700000041
END:VEVENT
END:VCALENDAR