BEGIN:VCALENDAR
VERSION:2.0
PRODID:-//wp-events-plugin.com//7.2.3.1//EN
BEGIN:VEVENT
UID:0-428@cellieu.fr
DTSTART:20190526T070000Z
DTEND:20190526T170000Z
DTSTAMP:20190522T210302Z
URL:https://cellieu.fr/press3/mairie/events/elections-europeenne-2019/
SUMMARY:Elections Européenne 2019
DESCRIPTION:Le bureau de vote\, situé à la Mairie\, sera ouvert de 8h à 
 18h.\n\n&nbsp\;
ATTACH;FMTTYPE=image/jpeg:https://cellieu.fr/press3/mairie/wp-content/uplo
 ads/sites/2/2019/05/Logo_élections_européennes_France_2019.jpg
CATEGORIES:Mairie,Public
LOCATION:Salle du Conseil\, 1 Place de Verdun\, Cellieu\, 42320\, France
GEO:45.52291890000001;4.541450700000041
X-APPLE-STRUCTURED-LOCATION;VALUE=URI;X-ADDRESS=1 Place de Verdun\, Cellieu
 \, 42320\, France;X-APPLE-RADIUS=100;X-TITLE=Salle du Conseil:geo:45.52291
 890000001,4.541450700000041
END:VEVENT
END:VCALENDAR