BEGIN:VCALENDAR
VERSION:2.0
PRODID:-//wp-events-plugin.com//7.2.3.1//EN
BEGIN:VEVENT
UID:2-296@cellieu.fr
DTSTART;VALUE=DATE:20170610
DTEND;VALUE=DATE:20170625
DTSTAMP:20170602T213353Z
URL:https://cellieu.fr/press3/mairie/events/exposition-de-peintures-et-des
 sin-2017/
SUMMARY:Exposition de Peintures et Dessins - 2017
DESCRIPTION:Organisateur : Maison Pour Tous de Cellieu (www.mptcellieu.fr)\
 n\n&nbsp\;\n\n
ATTACH;FMTTYPE=image/jpeg:https://cellieu.fr/press3/mairie/wp-content/uplo
 ads/sites/2/2014/07/logo_mpt.jpg
CATEGORIES:Médiathèque,MPT,Public
LOCATION:Médiathèque Yvan Garrel\, 25 place de verdun\, Cellieu\, 42320\,
  France
GEO:45.523213147489926;4.541521402990384
X-APPLE-STRUCTURED-LOCATION;VALUE=URI;X-ADDRESS=25 place de verdun\, Cellie
 u\, 42320\, France;X-APPLE-RADIUS=100;X-TITLE=Médiathèque Yvan Garrel:ge
 o:45.523213147489926,4.541521402990384
END:VEVENT
END:VCALENDAR