BEGIN:VCALENDAR
VERSION:2.0
PRODID:-//wp-events-plugin.com//7.2.3.1//EN
BEGIN:VEVENT
UID:0-430@cellieu.fr
DTSTART:20190607T230000Z
DTEND:20190621T230000Z
DTSTAMP:20190528T193154Z
URL:https://cellieu.fr/press3/mairie/events/exposition-dessin-2019/
SUMMARY:Exposition de l'atelier dessin-peinture 2019
DESCRIPTION:Organisateur : Maison Pour Tous\n\nAux horaires d'ouverture de 
 la médiathèque.\n\n[pdf-embedder url="https://cellieu.fr/press3/mairie/w
 p-content/uploads/sites/2/2019/05/2019-06-08-MPT_Exposition_dessin.pdf"]
ATTACH;FMTTYPE=image/jpeg:https://cellieu.fr/press3/mairie/wp-content/uplo
 ads/sites/2/2014/07/logo_mpt.jpg
CATEGORIES:MPT,Public
LOCATION:Médiathèque Yvan Garrel\, 25 place de verdun\, Cellieu\, 42320\,
  France
GEO:45.523213147489926;4.541521402990384
X-APPLE-STRUCTURED-LOCATION;VALUE=URI;X-ADDRESS=25 place de verdun\, Cellie
 u\, 42320\, France;X-APPLE-RADIUS=100;X-TITLE=Médiathèque Yvan Garrel:ge
 o:45.523213147489926,4.541521402990384
END:VEVENT
END:VCALENDAR