BEGIN:VCALENDAR
VERSION:2.0
PRODID:-//wp-events-plugin.com//7.2.3.1//EN
BEGIN:VEVENT
UID:0-729@cellieu.fr
DTSTART:20251024T230000Z
DTEND:20251103T230000Z
DTSTAMP:20251016T084038Z
URL:https://cellieu.fr/press3/mairie/events/fermeture-mediatheque-du-25-10
 -au-03-11/
SUMMARY:Fermeture Médiathèque du 25/10 au 03/11
DESCRIPTION:La médiathèque\nSera fermée entre le samedi 25 octobre et le
  lundi 3 novembre.\nRéouverture mardi 4 novembre à 14h.&nbsp\;
ATTACH;FMTTYPE=image/jpeg:https://cellieu.fr/press3/mairie/wp-content/uplo
 ads/sites/2/2022/04/CELLIEU-VECTO-LOGOTYPE-COULEUR.jpg
CATEGORIES:Mairie,Médiathèque,Public
LOCATION:Médiathèque Yvan Garrel\, 25 place de verdun\, Cellieu\, 42320\,
  France
GEO:45.523213147489926;4.541521402990384
X-APPLE-STRUCTURED-LOCATION;VALUE=URI;X-ADDRESS=25 place de verdun\, Cellie
 u\, 42320\, France;X-APPLE-RADIUS=100;X-TITLE=Médiathèque Yvan Garrel:ge
 o:45.523213147489926,4.541521402990384
END:VEVENT
END:VCALENDAR