BEGIN:VCALENDAR
VERSION:2.0
PRODID:-//wp-events-plugin.com//7.2.3.1//EN
BEGIN:VEVENT
UID:0-726@cellieu.fr
DTSTART:20251106T230000Z
DTEND:20251108T230000Z
DTSTAMP:20251014T122941Z
URL:https://cellieu.fr/press3/mairie/events/festival-theatre-mpt-la-cerise
 -sur-le-plateau/
SUMMARY:Festival Théâtre MPT- La Cerise sur  le Plateau
DESCRIPTION:Festival Théâtre -"La Cerise sur le Plateau"\n07-08-09 Novemb
 re 2025\n                                           
                                                  
                                              Salle 
 Georges BRASSENS-CELLIEU\n
ATTACH;FMTTYPE=image/jpeg:https://cellieu.fr/press3/mairie/wp-content/uplo
 ads/sites/2/2014/07/logo_mpt.jpg
CATEGORIES:Public
LOCATION:Salle Georges Brassens\, 25 place de verdun\, Cellieu\, 42320\, Fr
 ance
GEO:45.52291890000001;4.541450700000041
X-APPLE-STRUCTURED-LOCATION;VALUE=URI;X-ADDRESS=25 place de verdun\, Cellie
 u\, 42320\, France;X-APPLE-RADIUS=100;X-TITLE=Salle Georges Brassens:geo:4
 5.52291890000001,4.541450700000041
END:VEVENT
END:VCALENDAR