BEGIN:VCALENDAR
VERSION:2.0
PRODID:-//wp-events-plugin.com//7.2.3.1//EN
BEGIN:VEVENT
UID:0-434@cellieu.fr
DTSTART:20190622T190000Z
DTEND:20190622T210000Z
DTSTAMP:20190528T193716Z
URL:https://cellieu.fr/press3/mairie/events/gala-danse-hip-hop-2019/
SUMMARY:Gala Danse - Hip Hop 2019
DESCRIPTION:Organisateur : Maison Pour Tous\n\n&nbsp\;\n\n[pdf-embedder url
 ="https://cellieu.fr/press3/mairie/wp-content/uploads/sites/2/2019/05/2019
 -06-22-MPT_Gala_soir.pdf"]
ATTACH;FMTTYPE=image/jpeg:https://cellieu.fr/press3/mairie/wp-content/uplo
 ads/sites/2/2014/07/logo_mpt.jpg
CATEGORIES:MPT,Public
LOCATION:Autres\, Adresse\, Cellieu\, France
GEO:45.52306799999999;4.541575999999964
X-APPLE-STRUCTURED-LOCATION;VALUE=URI;X-ADDRESS=Adresse\, Cellieu\, France;
 X-APPLE-RADIUS=100;X-TITLE=Autres:geo:45.52306799999999,4.541575999999964
END:VEVENT
END:VCALENDAR