BEGIN:VCALENDAR
VERSION:2.0
PRODID:-//wp-events-plugin.com//7.2.3.1//EN
BEGIN:VEVENT
UID:0-699@cellieu.fr
DTSTART:20250614T160000Z
DTEND:20250614T190000Z
DTSTAMP:20250526T081237Z
URL:https://cellieu.fr/press3/mairie/events/gala-danse-samedi-14-juin-2025
 /
SUMMARY:Gala Danse-Samedi 14 juin 2025
DESCRIPTION:
ATTACH;FMTTYPE=image/jpeg:https://cellieu.fr/press3/mairie/wp-content/uplo
 ads/sites/2/2014/07/logo_mpt.jpg
CATEGORIES:Public
LOCATION:Autres\, Adresse\, Cellieu\, France
GEO:45.52306799999999;4.541575999999964
X-APPLE-STRUCTURED-LOCATION;VALUE=URI;X-ADDRESS=Adresse\, Cellieu\, France;
 X-APPLE-RADIUS=100;X-TITLE=Autres:geo:45.52306799999999,4.541575999999964
END:VEVENT
END:VCALENDAR