BEGIN:VCALENDAR
VERSION:2.0
PRODID:-//wp-events-plugin.com//7.2.3.1//EN
BEGIN:VEVENT
UID:2-294@cellieu.fr
DTSTART:20170624T130000Z
DTEND:20170624T160000Z
DTSTAMP:20170602T203603Z
URL:https://cellieu.fr/press3/mairie/events/gala-grs-2017/
SUMMARY:Gala GRS - 2017
DESCRIPTION:Organisateur : Maison Pour Tous de Cellieu (www.mptcellieu.fr)\
 n\n[pdf-embedder url="https://cellieu.fr/press3/mairie/wp-content/uploads/
 sites/2/2017/06/2017-06-24-MPT_Gala_GRS.pdf"]
ATTACH;FMTTYPE=image/jpeg:https://cellieu.fr/press3/mairie/wp-content/uplo
 ads/sites/2/2014/07/logo_mpt.jpg
CATEGORIES:MPT,Public
LOCATION:Autres\, Adresse\, Cellieu\, France
GEO:45.52306799999999;4.541575999999964
X-APPLE-STRUCTURED-LOCATION;VALUE=URI;X-ADDRESS=Adresse\, Cellieu\, France;
 X-APPLE-RADIUS=100;X-TITLE=Autres:geo:45.52306799999999,4.541575999999964
END:VEVENT
END:VCALENDAR