BEGIN:VCALENDAR
VERSION:2.0
PRODID:-//wp-events-plugin.com//7.2.3.1//EN
BEGIN:VEVENT
UID:0-578@cellieu.fr
DTSTART;VALUE=DATE:20230620
DTEND;VALUE=DATE:20230709
DTSTAMP:20230620T115216Z
URL:https://cellieu.fr/press3/mairie/events/inscription-concours-des-maiso
 ns-fleuries/
SUMMARY:Inscription Concours des Maisons Fleuries
DESCRIPTION:Organisateur : Comité de Fleurissement de Cellieu\n\nInscripti
 on au Secrétariat de la Mairie\, aux horaires habituels d'ouverture\, jus
 qu'au 8 juillet 2023.
ATTACH;FMTTYPE=image/jpeg:https://cellieu.fr/press3/mairie/wp-content/uplo
 ads/sites/2/2014/07/logo_fleurissement.jpg
CATEGORIES:Comité de Fleurissement,Public
LOCATION:Place de Verdun\, place de verdun\, Cellieu\, 42320\, France
GEO:45.52291890000001;4.541450700000041
X-APPLE-STRUCTURED-LOCATION;VALUE=URI;X-ADDRESS=place de verdun\, Cellieu\,
  42320\, France;X-APPLE-RADIUS=100;X-TITLE=Place de Verdun:geo:45.52291890
 000001,4.541450700000041
END:VEVENT
END:VCALENDAR