BEGIN:VCALENDAR
VERSION:2.0
PRODID:-//wp-events-plugin.com//7.2.3.1//EN
BEGIN:VEVENT
UID:0-722@cellieu.fr
DTSTART:20251019T100000Z
DTEND:20251019T110000Z
DTSTAMP:20250929T090217Z
URL:https://cellieu.fr/press3/mairie/events/inscriptions-classe-en-5/
SUMMARY:Inscriptions Classe en 5 :
DESCRIPTION:Inscriptions Maison des associations\nLes 19 et 26 octobre\n&nb
 sp\;de 11h à 12h.&nbsp\;\n
ATTACH;FMTTYPE=image/jpeg:https://cellieu.fr/press3/mairie/wp-content/uplo
 ads/sites/2/2015/07/cropped-logo_cellieu_2.gif
CATEGORIES:Mairie,Public
LOCATION:Maison des Associations\, Route du marché\, Cellieu\, 42320\, Fra
 nce
GEO:45.5234081;4.54262319999998
X-APPLE-STRUCTURED-LOCATION;VALUE=URI;X-ADDRESS=Route du marché\, Cellieu\
 , 42320\, France;X-APPLE-RADIUS=100;X-TITLE=Maison des Associations:geo:45
 .5234081,4.54262319999998
END:VEVENT
END:VCALENDAR