BEGIN:VCALENDAR
VERSION:2.0
PRODID:-//wp-events-plugin.com//7.2.3.1//EN
BEGIN:VEVENT
UID:0-692@cellieu.fr
DTSTART:20250424T090000Z
DTEND:20250424T153000Z
DTSTAMP:20250414T083513Z
URL:https://cellieu.fr/press3/mairie/events/journee-jeux-sipg/
SUMMARY:Journée Jeux-SIPG
DESCRIPTION:
CATEGORIES:Public
LOCATION:Autres\, Adresse\, Cellieu\, France
GEO:45.52306799999999;4.541575999999964
X-APPLE-STRUCTURED-LOCATION;VALUE=URI;X-ADDRESS=Adresse\, Cellieu\, France;
 X-APPLE-RADIUS=100;X-TITLE=Autres:geo:45.52306799999999,4.541575999999964
END:VEVENT
END:VCALENDAR