BEGIN:VCALENDAR
VERSION:2.0
PRODID:-//wp-events-plugin.com//7.2.3.1//EN
BEGIN:VEVENT
UID:0-437@cellieu.fr
DTSTART:20190823T183000Z
DTEND:20190823T200000Z
DTSTAMP:20190802T085812Z
URL:https://cellieu.fr/press3/mairie/events/les-petites-scenes-de-lete-gg-
 gibson/
SUMMARY:Les petites scènes de l'été : GG Gibson
DESCRIPTION:Organisateur : Comité des fêtes - St Etienne Métropole - Mai
 rie de Cellieu\n\nApéritif et Concert GRATUIT sur la place du Village.\n\
 nPlus d'informations : ici\n\n&nbsp\;\n\n&nbsp\;
ATTACH;FMTTYPE=image/jpeg:https://cellieu.fr/press3/mairie/wp-content/uplo
 ads/sites/2/2016/02/2016-zestivales_gggibson.png
CATEGORIES:Comite des fêtes,Mairie,Public
LOCATION:Place de Verdun\, place de verdun\, Cellieu\, 42320\, France
GEO:45.52291890000001;4.541450700000041
X-APPLE-STRUCTURED-LOCATION;VALUE=URI;X-ADDRESS=place de verdun\, Cellieu\,
  42320\, France;X-APPLE-RADIUS=100;X-TITLE=Place de Verdun:geo:45.52291890
 000001,4.541450700000041
END:VEVENT
END:VCALENDAR