BEGIN:VCALENDAR
VERSION:2.0
PRODID:-//wp-events-plugin.com//7.2.3.1//EN
BEGIN:VEVENT
UID:0-560@cellieu.fr
DTSTART:20230327T141500Z
DTEND:20230327T153000Z
DTSTAMP:20230308T135604Z
URL:https://cellieu.fr/press3/mairie/events/ludobus-2/
SUMMARY:LUDOBUS
DESCRIPTION:Passage sur la commune de Cellieu de 15h15 à 16h30.les :\n27 m
 ars \; 25 avril \; 23 mai \; 20 juin \; 18 juillet.\nLe Ludobus est ouvert
  aux enfants\, parents\, professionnels et personnes de tous&nbsp\;âges.\
 nPour s’inscrire\, il suffit de se rendre au Ludobus lors d’une perman
 ence\, munit d’un justificatif de domicile et d’un chèque de caution 
 (non encaissé). L’adhésion est à hauteur de 5\,50€ pour les assista
 ntes maternelles et de 5€ pour les familles\, pour une durée de 1 an de
  date à date. Il vous sera ensuite possible d’emprunter 2 jeux par adh
 érent pendant 4 semaines.Dans le ludobus\, une ludothécaire vous accueil
 le\, vous conseille et vous&nbsp\;accompagne pour bien choisir vos jeux et
  construire vos projets.\n
ATTACH;FMTTYPE=image/jpeg:https://cellieu.fr/press3/mairie/wp-content/uplo
 ads/sites/2/2015/03/logo_pays_du_gier.jpg
CATEGORIES:Autre,Public
LOCATION:Ecole Alphonse Daudet\, 39 chemin de la picote\, cellieu\, France\
 , 42320\, France
GEO:45.518037453058604;4.542367558238311
X-APPLE-STRUCTURED-LOCATION;VALUE=URI;X-ADDRESS=39 chemin de la picote\, ce
 llieu\, France\, 42320\, France;X-APPLE-RADIUS=100;X-TITLE=Ecole Alphonse 
 Daudet:geo:45.518037453058604,4.542367558238311
END:VEVENT
END:VCALENDAR