BEGIN:VCALENDAR
VERSION:2.0
PRODID:-//wp-events-plugin.com//7.2.3.1//EN
BEGIN:VEVENT
UID:2-116@cellieu.fr
DTSTART:20150228T080000Z
DTEND:20150228T110000Z
DTSTAMP:20150401T194804Z
URL:https://cellieu.fr/press3/mairie/events/matinee-classes-ouvertes-a-lec
 ole-st-joseph/
SUMMARY:Matinée classes ouvertes à l'école St. Joseph
DESCRIPTION:Matinée classes ouvertes à l'école St. Joseph de 9h à 12h.\
 n\nPlus d'informations : ici
ATTACH;FMTTYPE=image/jpeg:https://cellieu.fr/press3/mairie/wp-content/uplo
 ads/sites/2/2015/01/equipement_st_joseph_1.png
CATEGORIES:Public,St Joseph
LOCATION:Ecole Saint Joseph\, 112 rue des amandiers\, Cellieu\, 42320\, Fra
 nce
GEO:45.522547951499405;4.543252197622678
X-APPLE-STRUCTURED-LOCATION;VALUE=URI;X-ADDRESS=112 rue des amandiers\, Cel
 lieu\, 42320\, France;X-APPLE-RADIUS=100;X-TITLE=Ecole Saint Joseph:geo:45
 .522547951499405,4.543252197622678
END:VEVENT
END:VCALENDAR