BEGIN:VCALENDAR
VERSION:2.0
PRODID:-//wp-events-plugin.com//7.2.3.1//EN
BEGIN:VEVENT
UID:0-689@cellieu.fr
DTSTART:20250408T230000Z
DTEND:20250408T230000Z
DTSTAMP:20250410T073938Z
URL:https://cellieu.fr/press3/mairie/events/mediatheque-exposition-epices-
 et-aromates/
SUMMARY:Médiathèque-Exposition Epices et Aromates
DESCRIPTION:
ATTACH;FMTTYPE=image/jpeg:https://cellieu.fr/press3/mairie/wp-content/uplo
 ads/sites/2/2015/07/cropped-logo_cellieu_2.gif
CATEGORIES:Public
LOCATION:Médiathèque Yvan Garrel\, 25 place de verdun\, Cellieu\, 42320\,
  France
GEO:45.523213147489926;4.541521402990384
X-APPLE-STRUCTURED-LOCATION;VALUE=URI;X-ADDRESS=25 place de verdun\, Cellie
 u\, 42320\, France;X-APPLE-RADIUS=100;X-TITLE=Médiathèque Yvan Garrel:ge
 o:45.523213147489926,4.541521402990384
END:VEVENT
END:VCALENDAR