BEGIN:VCALENDAR
VERSION:2.0
PRODID:-//wp-events-plugin.com//7.2.3.1//EN
BEGIN:VEVENT
UID:0-750@cellieu.fr
DTSTART:20260223T230000Z
DTEND:20260506T230000Z
DTSTAMP:20260311T153901Z
URL:https://cellieu.fr/press3/mairie/events/merveilles-du-musee-3-oeuvres-
 vous-sont-presentees-des-le-24-fevrier-2026/
SUMMARY:"Merveilles du musée" 3 œuvres vous sont présentées dès le 24 
 février 2026
DESCRIPTION:Les œuvres seront visibles du public\,\ndans la salle d'exposi
 tion\nentre le mardi 24 février à partir de 15h et jusqu’au jeudi 7 ma
 i inclus.\nAux horaires d'ouverture de la médiathèque\n\n\n\n\n 	\nUne v
 isite guidée est proposée tous les mercredis de 14h30 à 15h15.\nainsi q
 u'un atelier dessin avec une animatrice \n\n 	\n- Gratuit - Tout public.\n
 \n\n&nbsp\;\n\n\n\n\n\n\n\n\n
ATTACH;FMTTYPE=image/jpeg:https://cellieu.fr/press3/mairie/wp-content/uplo
 ads/sites/2/2025/05/logo-cellieu.jpg
CATEGORIES:Mairie,Médiathèque,Public
LOCATION:Médiathèque Yvan Garrel\, 25 place de verdun\, Cellieu\, 42320\,
  France
GEO:45.523213147489926;4.541521402990384
X-APPLE-STRUCTURED-LOCATION;VALUE=URI;X-ADDRESS=25 place de verdun\, Cellie
 u\, 42320\, France;X-APPLE-RADIUS=100;X-TITLE=Médiathèque Yvan Garrel:ge
 o:45.523213147489926,4.541521402990384
END:VEVENT
END:VCALENDAR