BEGIN:VCALENDAR
VERSION:2.0
PRODID:-//wp-events-plugin.com//7.2.3.1//EN
BEGIN:VEVENT
UID:2-274@cellieu.fr
DTSTART:20170119T190000Z
DTEND:20170119T210000Z
DTSTAMP:20170113T222036Z
URL:https://cellieu.fr/press3/mairie/events/organisation-fete-de-la-region
 -janvier-2017/
SUMMARY:Organisation de la fête de la région - Janvier 2017
DESCRIPTION:Organisateur : Comité des Fêtes\n\n&nbsp\;\n\nDepuis quelques
  mois\, nous nous rencontrons afin d'organiser la fête de la région.\n\n
 Depuis quelques mois vous participez à l'organisations de cette fête.\n\
 nDepuis quelques semaines\, après le retour de certains devis\, nous cons
 tatons que le projet devient difficile à concrétiser dans l'idée origin
 ale.\n\nAprès certains loupés d'invitation\, après certaines incompréh
 ensions\, le projet continu à se monter\, mais avec des changements d'ori
 entation.\n\nAfin d'échanger sur ces changements et afin d'avoir vos ress
 entis\, nous vous invitons à une réunion le\n\njeudi 19 janvier à 20h s
 alle J Brel\n\n&nbsp\;\n\nVenez nombreux\, même si vous n'avez pas encore
  participé à ce projet.
ATTACH;FMTTYPE=image/jpeg:https://cellieu.fr/press3/mairie/wp-content/uplo
 ads/sites/2/2016/11/Logo_CDF.png
CATEGORIES:Comite des fêtes,Public
LOCATION:Salle Jacques Brel\, 25 place de verdun\, Cellieu\, 42320\, France
GEO:45.52291890000001;4.541450700000041
X-APPLE-STRUCTURED-LOCATION;VALUE=URI;X-ADDRESS=25 place de verdun\, Cellie
 u\, 42320\, France;X-APPLE-RADIUS=100;X-TITLE=Salle Jacques Brel:geo:45.52
 291890000001,4.541450700000041
END:VEVENT
END:VCALENDAR