BEGIN:VCALENDAR
VERSION:2.0
PRODID:-//wp-events-plugin.com//7.2.3.1//EN
BEGIN:VEVENT
UID:0-461@cellieu.fr
DTSTART:20200812T153000Z
DTEND:20200812T163000Z
DTSTAMP:20200725T095142Z
URL:https://cellieu.fr/press3/mairie/events/passage-de-la-course-du-criter
 ium-du-dauphine-a-cellieu-le-12-aout-2020/
SUMMARY:Course du Critérium du Dauphiné
DESCRIPTION:[pdf-embedder url="https://cellieu.fr/press3/mairie/wp-content/
 uploads/sites/2/2020/07/2020-07-21-Info-riverains-critérium-2020-Cellieu.
 pdf" title="2020-07-21-Info riverains critérium 2020 Cellieu"]
ATTACH;FMTTYPE=image/jpeg:https://cellieu.fr/press3/mairie/wp-content/uplo
 ads/sites/2/2017/03/logo-SEM-M.jpg
CATEGORIES:Mairie,Public
LOCATION:Autres\, Adresse\, Cellieu\, France
GEO:45.52306799999999;4.541575999999964
X-APPLE-STRUCTURED-LOCATION;VALUE=URI;X-ADDRESS=Adresse\, Cellieu\, France;
 X-APPLE-RADIUS=100;X-TITLE=Autres:geo:45.52306799999999,4.541575999999964
END:VEVENT
END:VCALENDAR