BEGIN:VCALENDAR
VERSION:2.0
PRODID:-//wp-events-plugin.com//7.2.3.1//EN
BEGIN:VEVENT
UID:0-556@cellieu.fr
DTSTART:20230317T153000Z
DTEND:20230317T180000Z
DTSTAMP:20230228T135018Z
URL:https://cellieu.fr/press3/mairie/events/portes-ouvertes-alphonse-daude
 t-17-mars/
SUMMARY:Portes ouvertes Alphonse Daudet 17 Mars
DESCRIPTION:Soirée Portes ouvertes le 17 Mars\nEcole Alphonse Daudet\nde 1
 6h30 à 19h\n
CATEGORIES:Public
LOCATION:Ecole Alphonse Daudet\, 39 chemin de la picote\, cellieu\, France\
 , 42320\, France
GEO:45.518037453058604;4.542367558238311
X-APPLE-STRUCTURED-LOCATION;VALUE=URI;X-ADDRESS=39 chemin de la picote\, ce
 llieu\, France\, 42320\, France;X-APPLE-RADIUS=100;X-TITLE=Ecole Alphonse 
 Daudet:geo:45.518037453058604,4.542367558238311
END:VEVENT
END:VCALENDAR