BEGIN:VCALENDAR
VERSION:2.0
PRODID:-//wp-events-plugin.com//7.2.3.1//EN
BEGIN:VEVENT
UID:0-555@cellieu.fr
DTSTART:20230311T080000Z
DTEND:20230311T110000Z
DTSTAMP:20230228T133540Z
URL:https://cellieu.fr/press3/mairie/events/portes-ouvertes-ecole-st-josep
 h-samedi-11-mars/
SUMMARY:Portes ouvertes Ecole St Joseph -Samedi 11 Mars
DESCRIPTION:SAMEDI 11 MARS 9h à 12h\nPortes ouvertes \nECOLE ST JOSEPH\n\
 n\n&nbsp\;
CATEGORIES:Public
LOCATION:Ecole Saint Joseph\, 112 rue des amandiers\, Cellieu\, 42320\, Fra
 nce
GEO:45.522547951499405;4.543252197622678
X-APPLE-STRUCTURED-LOCATION;VALUE=URI;X-ADDRESS=112 rue des amandiers\, Cel
 lieu\, 42320\, France;X-APPLE-RADIUS=100;X-TITLE=Ecole Saint Joseph:geo:45
 .522547951499405,4.543252197622678
END:VEVENT
END:VCALENDAR