BEGIN:VCALENDAR
VERSION:2.0
PRODID:-//wp-events-plugin.com//7.2.3.1//EN
BEGIN:VEVENT
UID:0-559@cellieu.fr
DTSTART:20230318T080000Z
DTEND:20230318T160000Z
DTSTAMP:20230227T151724Z
URL:https://cellieu.fr/press3/mairie/events/portes-ouvertes-mfr/
SUMMARY:PORTES OUVERTES -MFR
DESCRIPTION:portes ouvertes MFR\nSamedi 18 Mars 2023\nde 9H à 17H (sur RDV
 )\nPortes ouvertes MFR\n&nbsp\;\n\n&nbsp\;
CATEGORIES:Public
LOCATION:Autres\, Adresse\, Cellieu\, France
GEO:45.52306799999999;4.541575999999964
X-APPLE-STRUCTURED-LOCATION;VALUE=URI;X-ADDRESS=Adresse\, Cellieu\, France;
 X-APPLE-RADIUS=100;X-TITLE=Autres:geo:45.52306799999999,4.541575999999964
END:VEVENT
END:VCALENDAR