BEGIN:VCALENDAR
VERSION:2.0
PRODID:-//wp-events-plugin.com//7.2.3.1//EN
BEGIN:VEVENT
UID:2-244@cellieu.fr
DTSTART:20161105T130000Z
DTEND:20161105T150000Z
DTSTAMP:20161103T105719Z
URL:https://cellieu.fr/press3/mairie/events/preparation-fete-du-village-po
 ur-les-jeunes/
SUMMARY:Préparation fête du village pour les jeunes
DESCRIPTION:
ATTACH;FMTTYPE=image/jpeg:https://cellieu.fr/press3/mairie/wp-content/uplo
 ads/sites/2/2016/11/Logo_CDF.png
CATEGORIES:Comite des fêtes,Public
LOCATION:Salle Jacques Brel\, 25 place de verdun\, Cellieu\, 42320\, France
GEO:45.52291890000001;4.541450700000041
X-APPLE-STRUCTURED-LOCATION;VALUE=URI;X-ADDRESS=25 place de verdun\, Cellie
 u\, 42320\, France;X-APPLE-RADIUS=100;X-TITLE=Salle Jacques Brel:geo:45.52
 291890000001,4.541450700000041
END:VEVENT
END:VCALENDAR