BEGIN:VCALENDAR
VERSION:2.0
PRODID:-//wp-events-plugin.com//7.2.3.1//EN
BEGIN:VEVENT
UID:0-576@cellieu.fr
DTSTART:20230604T230000Z
DTEND:20230629T230000Z
DTSTAMP:20230616T085436Z
URL:https://cellieu.fr/press3/mairie/events/printemps-du-col/
SUMMARY:Printemps du Col
DESCRIPTION:Pour le mois de juin\, votre centre de dépistage se mobilise p
 our la prévention et le dépistage du cancer du col de l'utérus.\nhttps:
 //www.depistagecanceraura.fr/\n&nbsp\;\n\n
CATEGORIES:Autre,Public
LOCATION:Salle Georges Brassens\, 25 place de verdun\, Cellieu\, 42320\, Fr
 ance
GEO:45.52291890000001;4.541450700000041
X-APPLE-STRUCTURED-LOCATION;VALUE=URI;X-ADDRESS=25 place de verdun\, Cellie
 u\, 42320\, France;X-APPLE-RADIUS=100;X-TITLE=Salle Georges Brassens:geo:4
 5.52291890000001,4.541450700000041
END:VEVENT
END:VCALENDAR