BEGIN:VCALENDAR
VERSION:2.0
PRODID:-//wp-events-plugin.com//7.2.3.1//EN
BEGIN:VEVENT
UID:0-693@cellieu.fr
DTSTART:20250517T130000Z
DTEND:20250517T170000Z
DTSTAMP:20250509T083331Z
URL:https://cellieu.fr/press3/mairie/events/ramassage-des-dechets/
SUMMARY:Ramassage des déchets
DESCRIPTION:Ramassage des déchets\nSamedi 17 mai 2025\nA partir de 14h00\,
  ramasser les déchets dans votre hameau\nRDV 16H00 au Complexe des Roches
  pour la pesée\, tri et goûter.\n
ATTACH;FMTTYPE=image/jpeg:https://cellieu.fr/press3/mairie/wp-content/uplo
 ads/sites/2/2021/10/logo-cellieu-e1643359422870.jpg
CATEGORIES:Public
LOCATION:Complexe Sportif Cellieu-Chagnon\, 541 Route du Trève\, Cellieu\,
  42320\, France
GEO:45.5309771;4.54462280000007
X-APPLE-STRUCTURED-LOCATION;VALUE=URI;X-ADDRESS=541 Route du Trève\, Celli
 eu\, 42320\, France;X-APPLE-RADIUS=100;X-TITLE=Complexe Sportif Cellieu-Ch
 agnon:geo:45.5309771,4.54462280000007
END:VEVENT
END:VCALENDAR