BEGIN:VCALENDAR
VERSION:2.0
PRODID:-//wp-events-plugin.com//7.2.3.1//EN
BEGIN:VEVENT
UID:0-730@cellieu.fr
DTSTART:20251213T080000Z
DTEND:20251213T140000Z
DTSTAMP:20251208T113721Z
URL:https://cellieu.fr/press3/mairie/events/reboisement-du-chappe/
SUMMARY:Reboisement du Chappe
DESCRIPTION:Venez participer à la plantation de 120 arbres au Chappe (rout
 e de Peyrieux\, proche de la statue de Jeanne d'Arc).\n\nPlus d'informatio
 n sur cette page.\n\n
ATTACH;FMTTYPE=image/jpeg:https://cellieu.fr/press3/mairie/wp-content/uplo
 ads/sites/2/2025/10/Liquidambar_formosana_01.jpg
CATEGORIES:Comité de Fleurissement,Public
LOCATION:Autres\, Adresse\, Cellieu\, France
GEO:45.52306799999999;4.541575999999964
X-APPLE-STRUCTURED-LOCATION;VALUE=URI;X-ADDRESS=Adresse\, Cellieu\, France;
 X-APPLE-RADIUS=100;X-TITLE=Autres:geo:45.52306799999999,4.541575999999964
END:VEVENT
END:VCALENDAR