BEGIN:VCALENDAR
VERSION:2.0
PRODID:-//wp-events-plugin.com//7.2.3.1//EN
BEGIN:VEVENT
UID:0-431@cellieu.fr
DTSTART:20190614T130000Z
DTEND:20190614T160000Z
DTSTAMP:20190528T193311Z
URL:https://cellieu.fr/press3/mairie/events/relooking-mai-2019/
SUMMARY:Relooking : Mai 2019
DESCRIPTION:Organisateur : Maison Pour Tous\n\n[pdf-embedder url="https://c
 ellieu.fr/press3/mairie/wp-content/uploads/sites/2/2019/05/2019-06-14-MPT_
 Relooking.pdf"]
ATTACH;FMTTYPE=image/jpeg:https://cellieu.fr/press3/mairie/wp-content/uplo
 ads/sites/2/2014/07/logo_mpt.jpg
CATEGORIES:MPT,Public
LOCATION:Maison des Associations\, Route du marché\, Cellieu\, 42320\, Fra
 nce
GEO:45.5234081;4.54262319999998
X-APPLE-STRUCTURED-LOCATION;VALUE=URI;X-ADDRESS=Route du marché\, Cellieu\
 , 42320\, France;X-APPLE-RADIUS=100;X-TITLE=Maison des Associations:geo:45
 .5234081,4.54262319999998
END:VEVENT
END:VCALENDAR