BEGIN:VCALENDAR
VERSION:2.0
PRODID:-//wp-events-plugin.com//7.2.3.1//EN
BEGIN:VEVENT
UID:0-623@cellieu.fr
DTSTART;VALUE=DATE:20240427
DTEND;VALUE=DATE:20240428
DTSTAMP:20240229T110223Z
URL:https://cellieu.fr/press3/mairie/events/remise-des-composteurs-au-stad
 e-des-roches/
SUMMARY:Remise des composteurs au stade des Roches
DESCRIPTION:\n\nLa date de la remise des composteurs est fixée le samedi 2
 7 Avril sur Rdv.\n\nIl est indispensable de s'inscrire&nbsp\;inscription I
 ci\n\n&nbsp\;
ATTACH;FMTTYPE=image/jpeg:https://cellieu.fr/press3/mairie/wp-content/uplo
 ads/sites/2/2017/03/logo-SEM-M.jpg
CATEGORIES:Autre,Public
LOCATION:Complexe Sportif Cellieu-Chagnon\, 541 Route du Trève\, Cellieu\,
  42320\, France
GEO:45.5309771;4.54462280000007
X-APPLE-STRUCTURED-LOCATION;VALUE=URI;X-ADDRESS=541 Route du Trève\, Celli
 eu\, 42320\, France;X-APPLE-RADIUS=100;X-TITLE=Complexe Sportif Cellieu-Ch
 agnon:geo:45.5309771,4.54462280000007
END:VEVENT
END:VCALENDAR