BEGIN:VCALENDAR
VERSION:2.0
PRODID:-//wp-events-plugin.com//7.2.3.1//EN
BEGIN:VEVENT
UID:2-297@cellieu.fr
DTSTART:20170703T183000Z
DTEND:20170703T200000Z
DTSTAMP:20170627T065721Z
URL:https://cellieu.fr/press3/mairie/events/reunion-publique-relance-de-la
 -fete-du-centre-de-la-region-edition-2018/
SUMMARY:Réunion Publique : Relance de la Fête du Centre de la Région (Ed
 ition 2018)
DESCRIPTION:Organisateur : Comité des Fête de Cellieu\n\nOrdre du jour :\
 n\n 	Trouver des exposants\n 	Trouver des sponsors\n\n&nbsp\;\n\n[pdf-embe
 dder url="https://cellieu.fr/press3/mairie/wp-content/uploads/sites/2/2017
 /06/2017-07-03-comite_fete_centre_region.pdf"]
ATTACH;FMTTYPE=image/jpeg:https://cellieu.fr/press3/mairie/wp-content/uplo
 ads/sites/2/2016/11/Logo_CDF.png
CATEGORIES:Comite des fêtes,Public
LOCATION:Salle Georges Brassens\, 25 place de verdun\, Cellieu\, 42320\, Fr
 ance
GEO:45.52291890000001;4.541450700000041
X-APPLE-STRUCTURED-LOCATION;VALUE=URI;X-ADDRESS=25 place de verdun\, Cellie
 u\, 42320\, France;X-APPLE-RADIUS=100;X-TITLE=Salle Georges Brassens:geo:4
 5.52291890000001,4.541450700000041
END:VEVENT
END:VCALENDAR